BEGIN:VCALENDAR
VERSION:2.0
PRODID:-//Trittauer Gesangverein von 1843 - ECPv6.15.20//NONSGML v1.0//EN
CALSCALE:GREGORIAN
METHOD:PUBLISH
X-ORIGINAL-URL:https://www.trittauergesangverein.de
X-WR-CALDESC:Veranstaltungen für Trittauer Gesangverein von 1843
REFRESH-INTERVAL;VALUE=DURATION:PT1H
X-Robots-Tag:noindex
X-PUBLISHED-TTL:PT1H
BEGIN:VTIMEZONE
TZID:Europe/Berlin
BEGIN:DAYLIGHT
TZOFFSETFROM:+0100
TZOFFSETTO:+0200
TZNAME:CEST
DTSTART:20240331T010000
END:DAYLIGHT
BEGIN:STANDARD
TZOFFSETFROM:+0200
TZOFFSETTO:+0100
TZNAME:CET
DTSTART:20241027T010000
END:STANDARD
BEGIN:DAYLIGHT
TZOFFSETFROM:+0100
TZOFFSETTO:+0200
TZNAME:CEST
DTSTART:20250330T010000
END:DAYLIGHT
BEGIN:STANDARD
TZOFFSETFROM:+0200
TZOFFSETTO:+0100
TZNAME:CET
DTSTART:20251026T010000
END:STANDARD
BEGIN:DAYLIGHT
TZOFFSETFROM:+0100
TZOFFSETTO:+0200
TZNAME:CEST
DTSTART:20260329T010000
END:DAYLIGHT
BEGIN:STANDARD
TZOFFSETFROM:+0200
TZOFFSETTO:+0100
TZNAME:CET
DTSTART:20261025T010000
END:STANDARD
END:VTIMEZONE
BEGIN:VEVENT
DTSTART;TZID=Europe/Berlin:20250522T100000
DTEND;TZID=Europe/Berlin:20250522T100000
DTSTAMP:20260422T101614
CREATED:20250205T090524Z
LAST-MODIFIED:20250502T183454Z
UID:177-1747908000-1747908000@www.trittauergesangverein.de
SUMMARY:LEuSI auf dem Trittauer Sängerberg: "Der größte Schatz der Welt"
DESCRIPTION:Jürgen zum Felde liest Kindern vor: „Der größte Schatz der Welt“ \n(Geschlossene Gesellschaft) \nVeranstalter ist die Gruppe „Lesepaten“ der Bürgerstiftung Stormarn
URL:https://www.trittauergesangverein.de/veranstaltung/leusi-auf-dem-trittauer-saengerberg/
LOCATION:Trittau\, Sängerberg\, Sängerberg 1\, Trittau\, Schleswig-Holstein\, 22946\, Germany
CATEGORIES:Die Lesepaten der Bürger-Stiftung Stormarn,Sängerberg
END:VEVENT
BEGIN:VEVENT
DTSTART;TZID=Europe/Berlin:20250525T110000
DTEND;TZID=Europe/Berlin:20250525T150000
DTSTAMP:20260422T101614
CREATED:20250502T103629Z
LAST-MODIFIED:20250519T210242Z
UID:294-1748170800-1748185200@www.trittauergesangverein.de
SUMMARY:Tag des Liedes - Ein Festival des Chorsingens auf dem Sängerberg
DESCRIPTION:Gebt der lang gepflegten Kultur des Singens unserer Heimatlieder noch eine Chance. \nSchon von 1845 bis 1871 fanden auf dem Sängerberg in Trittau jährlich Treffen der Chöre aus Kreis Stormarn\, Lübeck und Lauenburg statt. \n1991 wurde diese Tradition wieder aufgenommen. Gemeinsames Singen macht frei. \n5 Chöre werden uns mit ihrem eigenen Repertoire begeistern und jeweils anschließend mit dem sangesfreudigen Publikum gemeinsam Volkslieder anstimmen ( Texte liegen aus ). \nNeben 2 gemischten Chören und 2 Männerchören wird erfreulicherweise auch der Schülerchor der Grundschule Lütjensee mitmachen. \nDer Eintritt ist frei. Um Spenden wird gebeten. \nFreuen Sie sich auf ein paar unbeschwerte Stunden bei fröhlichem Gesang! \ngez: Jürgen zum Felde
URL:https://www.trittauergesangverein.de/veranstaltung/tag-des-liedes-ein-festival-des-chorsingens-auf-dem-saengerberg/
LOCATION:Trittau\, Sängerberg\, Sängerberg 1\, Trittau\, Schleswig-Holstein\, 22946\, Germany
CATEGORIES:Sängerberg,Tag des Liedes
END:VEVENT
END:VCALENDAR