BEGIN:VCALENDAR
VERSION:2.0
PRODID:-//Trittauer Gesangverein von 1843 - ECPv6.15.20//NONSGML v1.0//EN
CALSCALE:GREGORIAN
METHOD:PUBLISH
X-WR-CALNAME:Trittauer Gesangverein von 1843
X-ORIGINAL-URL:https://www.trittauergesangverein.de
X-WR-CALDESC:Veranstaltungen für Trittauer Gesangverein von 1843
REFRESH-INTERVAL;VALUE=DURATION:PT1H
X-Robots-Tag:noindex
X-PUBLISHED-TTL:PT1H
BEGIN:VTIMEZONE
TZID:Europe/Berlin
BEGIN:DAYLIGHT
TZOFFSETFROM:+0100
TZOFFSETTO:+0200
TZNAME:CEST
DTSTART:20240331T010000
END:DAYLIGHT
BEGIN:STANDARD
TZOFFSETFROM:+0200
TZOFFSETTO:+0100
TZNAME:CET
DTSTART:20241027T010000
END:STANDARD
BEGIN:DAYLIGHT
TZOFFSETFROM:+0100
TZOFFSETTO:+0200
TZNAME:CEST
DTSTART:20250330T010000
END:DAYLIGHT
BEGIN:STANDARD
TZOFFSETFROM:+0200
TZOFFSETTO:+0100
TZNAME:CET
DTSTART:20251026T010000
END:STANDARD
BEGIN:DAYLIGHT
TZOFFSETFROM:+0100
TZOFFSETTO:+0200
TZNAME:CEST
DTSTART:20260329T010000
END:DAYLIGHT
BEGIN:STANDARD
TZOFFSETFROM:+0200
TZOFFSETTO:+0100
TZNAME:CET
DTSTART:20261025T010000
END:STANDARD
END:VTIMEZONE
BEGIN:VEVENT
DTSTART;TZID=Europe/Berlin:20250224T100000
DTEND;TZID=Europe/Berlin:20250224T113000
DTSTAMP:20260422T101121
CREATED:20250205T084927Z
LAST-MODIFIED:20250205T084927Z
UID:169-1740391200-1740396600@www.trittauergesangverein.de
SUMMARY:LEuSi (Lesen und Singen) im Betreutes Wohnen in Trittau
DESCRIPTION:
URL:https://www.trittauergesangverein.de/veranstaltung/leusi-lesen-und-singen-im-betreutes-wohnen-in-trittau/
END:VEVENT
END:VCALENDAR