BEGIN:VCALENDAR
VERSION:2.0
PRODID:-//Trittauer Gesangverein von 1843 - ECPv6.15.20//NONSGML v1.0//EN
CALSCALE:GREGORIAN
METHOD:PUBLISH
X-ORIGINAL-URL:https://www.trittauergesangverein.de
X-WR-CALDESC:Veranstaltungen für Trittauer Gesangverein von 1843
REFRESH-INTERVAL;VALUE=DURATION:PT1H
X-Robots-Tag:noindex
X-PUBLISHED-TTL:PT1H
BEGIN:VTIMEZONE
TZID:Europe/Berlin
BEGIN:DAYLIGHT
TZOFFSETFROM:+0100
TZOFFSETTO:+0200
TZNAME:CEST
DTSTART:20230326T010000
END:DAYLIGHT
BEGIN:STANDARD
TZOFFSETFROM:+0200
TZOFFSETTO:+0100
TZNAME:CET
DTSTART:20231029T010000
END:STANDARD
BEGIN:DAYLIGHT
TZOFFSETFROM:+0100
TZOFFSETTO:+0200
TZNAME:CEST
DTSTART:20240331T010000
END:DAYLIGHT
BEGIN:STANDARD
TZOFFSETFROM:+0200
TZOFFSETTO:+0100
TZNAME:CET
DTSTART:20241027T010000
END:STANDARD
BEGIN:DAYLIGHT
TZOFFSETFROM:+0100
TZOFFSETTO:+0200
TZNAME:CEST
DTSTART:20250330T010000
END:DAYLIGHT
BEGIN:STANDARD
TZOFFSETFROM:+0200
TZOFFSETTO:+0100
TZNAME:CET
DTSTART:20251026T010000
END:STANDARD
END:VTIMEZONE
BEGIN:VEVENT
DTSTART;TZID=Europe/Berlin:20241208T140000
DTEND;TZID=Europe/Berlin:20241208T160000
DTSTAMP:20260422T131427
CREATED:20241204T230401Z
LAST-MODIFIED:20241204T231849Z
UID:85-1733666400-1733673600@www.trittauergesangverein.de
SUMMARY:Offenes Singen mit LEuSI in der Trittauer Wassermühle
DESCRIPTION:Offenes Singen mit dem Trittauer Gesangverein LESEN und SINGEN  (LEuSI) \nEintritt frei
URL:https://www.trittauergesangverein.de/veranstaltung/offenes-singen-mit-leusi-in-der-trittauer-wassermuehle/
LOCATION:Trittauer Wassermühle Kulturzentrum\, Am Mühlenteich 3\, Trittau\, Schleswig-Holstein\, 22946\, Germany
END:VEVENT
BEGIN:VEVENT
DTSTART;TZID=Europe/Berlin:20241209T100000
DTEND;TZID=Europe/Berlin:20241209T120000
DTSTAMP:20260422T131427
CREATED:20241204T230950Z
LAST-MODIFIED:20250219T122225Z
UID:83-1733738400-1733745600@www.trittauergesangverein.de
SUMMARY:LESEN und SINGEN - LEuSI in der Trittauer Wassermühle
DESCRIPTION:Montags – alle 14 Tage (1. und 3. Montag im Monat) trifft sich die Gruppe LEuSi des Trittauer Gesangvereins um 10 Uhr zum LESEN und SINGEN. Gäste und Interessenten gerne willkommen!
URL:https://www.trittauergesangverein.de/veranstaltung/lesen-und-singen-leusi-in-der-trittauer-wassermuehle/
LOCATION:Trittauer Wassermühle Kulturzentrum\, Am Mühlenteich 3\, Trittau\, Schleswig-Holstein\, 22946\, Germany
CATEGORIES:Gemeinsames Singen in der Trittauer Wassermühle
END:VEVENT
END:VCALENDAR