BEGIN:VCALENDAR
VERSION:2.0
PRODID:-//Trittauer Gesangverein von 1843 - ECPv6.15.20//NONSGML v1.0//EN
CALSCALE:GREGORIAN
METHOD:PUBLISH
X-WR-CALNAME:Trittauer Gesangverein von 1843
X-ORIGINAL-URL:https://www.trittauergesangverein.de
X-WR-CALDESC:Veranstaltungen für Trittauer Gesangverein von 1843
REFRESH-INTERVAL;VALUE=DURATION:PT1H
X-Robots-Tag:noindex
X-PUBLISHED-TTL:PT1H
BEGIN:VTIMEZONE
TZID:Europe/Berlin
BEGIN:DAYLIGHT
TZOFFSETFROM:+0100
TZOFFSETTO:+0200
TZNAME:CEST
DTSTART:20240331T010000
END:DAYLIGHT
BEGIN:STANDARD
TZOFFSETFROM:+0200
TZOFFSETTO:+0100
TZNAME:CET
DTSTART:20241027T010000
END:STANDARD
BEGIN:DAYLIGHT
TZOFFSETFROM:+0100
TZOFFSETTO:+0200
TZNAME:CEST
DTSTART:20250330T010000
END:DAYLIGHT
BEGIN:STANDARD
TZOFFSETFROM:+0200
TZOFFSETTO:+0100
TZNAME:CET
DTSTART:20251026T010000
END:STANDARD
BEGIN:DAYLIGHT
TZOFFSETFROM:+0100
TZOFFSETTO:+0200
TZNAME:CEST
DTSTART:20260329T010000
END:DAYLIGHT
BEGIN:STANDARD
TZOFFSETFROM:+0200
TZOFFSETTO:+0100
TZNAME:CET
DTSTART:20261025T010000
END:STANDARD
END:VTIMEZONE
BEGIN:VEVENT
DTSTART;TZID=Europe/Berlin:20251126T150000
DTEND;TZID=Europe/Berlin:20251126T163000
DTSTAMP:20260421T214030
CREATED:20251114T155701Z
LAST-MODIFIED:20251114T155701Z
UID:350-1764169200-1764174600@www.trittauergesangverein.de
SUMMARY:Adventsliedersingen
DESCRIPTION:Freut euch auf ein gemeinsames \nAdventsliedersingen\nmit kleinen mitgebrachten Gedichtseinlagen \nvon Gästen und uns \n  \nIn  besinnlicher Runde an geschmückten Tischen mit ausgelegten Liedermappen \n  \n  \nIn der Wassermühle Trittau \nAm 26. November von 15.00 bis 16.30 Uhr     \nDer Eintritt ist frei. Um Spenden wird  gebeten
URL:https://www.trittauergesangverein.de/veranstaltung/adventsliedersingen/
LOCATION:Trittauer Wassermühle Kulturzentrum\, Am Mühlenteich 3\, Trittau\, Schleswig-Holstein\, 22946\, Germany
END:VEVENT
END:VCALENDAR