BEGIN:VCALENDAR
VERSION:2.0
PRODID:-//Trittauer Gesangverein von 1843 - ECPv6.15.20//NONSGML v1.0//EN
CALSCALE:GREGORIAN
METHOD:PUBLISH
X-ORIGINAL-URL:https://www.trittauergesangverein.de
X-WR-CALDESC:Veranstaltungen für Trittauer Gesangverein von 1843
REFRESH-INTERVAL;VALUE=DURATION:PT1H
X-Robots-Tag:noindex
X-PUBLISHED-TTL:PT1H
BEGIN:VTIMEZONE
TZID:Europe/Berlin
BEGIN:DAYLIGHT
TZOFFSETFROM:+0100
TZOFFSETTO:+0200
TZNAME:CEST
DTSTART:20240331T010000
END:DAYLIGHT
BEGIN:STANDARD
TZOFFSETFROM:+0200
TZOFFSETTO:+0100
TZNAME:CET
DTSTART:20241027T010000
END:STANDARD
BEGIN:DAYLIGHT
TZOFFSETFROM:+0100
TZOFFSETTO:+0200
TZNAME:CEST
DTSTART:20250330T010000
END:DAYLIGHT
BEGIN:STANDARD
TZOFFSETFROM:+0200
TZOFFSETTO:+0100
TZNAME:CET
DTSTART:20251026T010000
END:STANDARD
BEGIN:DAYLIGHT
TZOFFSETFROM:+0100
TZOFFSETTO:+0200
TZNAME:CEST
DTSTART:20260329T010000
END:DAYLIGHT
BEGIN:STANDARD
TZOFFSETFROM:+0200
TZOFFSETTO:+0100
TZNAME:CET
DTSTART:20261025T010000
END:STANDARD
END:VTIMEZONE
BEGIN:VEVENT
DTSTART;TZID=Europe/Berlin:20250302T110000
DTEND;TZID=Europe/Berlin:20250302T133000
DTSTAMP:20260422T101212
CREATED:20250212T225247Z
LAST-MODIFIED:20250301T222750Z
UID:205-1740913200-1740922200@www.trittauergesangverein.de
SUMMARY:Fröhlicher Gesang zum Frühschoppen
DESCRIPTION:Es ist wieder soweit!\nMit dem beliebten eintrittsfreien offenen Singen in der historischen\nWassermühle beginnt der Trittauer Gesangverein sein diesjähriges Programm. Lassen Sie uns mit\ndem gemeinsamen Singen unserer schönen traditionellen Volkslieder warme Frühlingstage\nherbeisingen und wieder ein wenig Lebensfreude aufnehmen und weitergeben. Gitarrenklänge\n(gespielt von Heinke Baars) werden den Gesang unterstützen. Alle Bürgerinnen und Bürger aus\nTrittau und Umgebung sind herzlich eingeladen\, selbst wenn Sie nur leise mitsummen wollen. Die\nLiedertexte der gewünschten Lieder werden in großer Schrift angezeigt und sind in ausreichend\nausgelegten Liedermappen ersichtlich. Freuen Sie sich auf ein paar schöne unbeschwerte\nStunden.\nAm Sonntag\, d. 02. März um 11.00 Uhr (Einlass 10.30)\nGez: J.zum Felde
URL:https://www.trittauergesangverein.de/veranstaltung/froehlicher-gesang-zum-fruehschoppen/
LOCATION:Trittauer Wassermühle Kulturzentrum\, Am Mühlenteich 3\, Trittau\, Schleswig-Holstein\, 22946\, Germany
END:VEVENT
END:VCALENDAR